BEGIN:VCALENDAR
VERSION:2.0
PRODID:-//wp-events-plugin.com//7.2.3.1//EN
BEGIN:VEVENT
UID:181@drubru.com
DTSTART:20250802T170000Z
DTEND:20250802T190000Z
DTSTAMP:20250801T174751Z
URL:https://www.drubru.com/brewery-events/wta-kickoff-pintnights/
SUMMARY:WTA Hike-a-Thon Kickoff Pint Nights!
DESCRIPTION:Join Washington Trails Association and Dru Bru to kick off Hike
 -a-Thon\, WTA's annual peer-to-peer fundraiser!\nDru Bru is hosting two Pi
 nt Night Fundraisers to benefit WTA:\n\n 	\nSaturday\, August 2nd\, 5:00 -
  7:00 PM @ Sno Pass taproom\n\n 	\nSaturday\, August 9th\, 5:00 - 7:00 PM 
 @ Cle Elum taproom\n\n\nAnyone who loves the outdoors is welcome. You do n
 ot need to be a Hike-a-Thoner to join — but if you're interested in supp
 orting public lands while you hike this summer\, we invite you to sign up:
  https://give.wta.org/campaign/hike-a-thon-2025/c694069\nMeet like-minded
  hikers and enjoy drinks (both alcoholic and non-alcoholic options availab
 le)\, and fun games!\nSupport WTA by enjoying beverages! $1 for every pint
  + mug\, and $4 from every pitcher sold during the event will be donated t
 o WTA.\nAdditional donation available at checkout. Plus\, for the month of
  August\, you can round up your purchase to donate directly to Washington 
 Trails Association.\n\nThis all-ages event is the perfect way to connect w
 ith other hikers and get a jumpstart on your month of hiking.\nSee you the
 re!\n\n
ATTACH;FMTTYPE=image/jpeg:https://www.drubru.com/wp-content/uploads/2025/0
 6/WTA_Event_2025-PintNights_Event__Banner-scaled.jpg
LOCATION:Snoqualmie Pass\, 10 Pass Life Way #3\, Snoqualmie Pass\, WA\, 980
 68\, United States
X-APPLE-STRUCTURED-LOCATION;VALUE=URI;X-ADDRESS=10 Pass Life Way #3\, Snoqu
 almie Pass\, WA\, 98068\, United States;X-APPLE-RADIUS=100;X-TITLE=Snoqual
 mie Pass:geo:0,0
END:VEVENT
END:VCALENDAR