BEGIN:VCALENDAR
VERSION:2.0
PRODID:-//wp-events-plugin.com//7.2.3.1//EN
BEGIN:VEVENT
UID:274@drubru.com
DTSTART:20260519T173000Z
DTEND:20260519T190000Z
DTSTAMP:20260416T215600Z
URL:https://www.drubru.com/brewery-events/tie-dye-hh/
SUMMARY:Tie Dye Happy Hour
DESCRIPTION:Join us at the Snoqualmie Pass taproom for a fun night of tie d
 ye and drink specials!\nOur Cru member\, Amber\, of Three Little Birds Tie
 s &amp\; Dyes will be leading a design-your-own\, tie-dyed t-shirt session
  at the taproom.\n\nWhat to expect:\n\n 	Sign up required - HERE\n\n 	Book
  the t-shirt size you want\n 	$35 per person - paid upon arrival\n 	All su
 pplies and instructions included.\n\n\n 	Happy Hour Specials available all
  day - purchased separately\n\n 	$1 off pints\, $2 off mugs\, and $4 off p
 itchers\n\n\n\nSee you at the taproom for some tie-dye fun!
ATTACH;FMTTYPE=image/jpeg:https://www.drubru.com/wp-content/uploads/2026/0
 4/26.05.19_TieDye-Event_SocialSquare.png
LOCATION:Snoqualmie Pass\, 10 Pass Life Way #3\, Snoqualmie Pass\, WA\, 980
 68\, United States
X-APPLE-STRUCTURED-LOCATION;VALUE=URI;X-ADDRESS=10 Pass Life Way #3\, Snoqu
 almie Pass\, WA\, 98068\, United States;X-APPLE-RADIUS=100;X-TITLE=Snoqual
 mie Pass:geo:0,0
END:VEVENT
END:VCALENDAR