BEGIN:VCALENDAR
VERSION:2.0
PRODID:-//wp-events-plugin.com//7.2.3.1//EN
BEGIN:VEVENT
UID:215@drubru.com
DTSTART:20251219T180000Z
DTEND:20251219T210000Z
DTSTAMP:20251208T003244Z
URL:https://www.drubru.com/brewery-events/silent-disco/
SUMMARY:11th Anniversary SILENT DISCO!
DESCRIPTION:Join us as we celebrate 11 years of craft and community with an
  unforgettable Beach Party Silent Disco!\nDress up and enjoy our selection
  of house-made beverages\, a beach-themed party\, and multiple music chann
 els that let you curate how to dance the night away!\n\n 	Held inside the 
 Cle Elum Taproom\n\n 	1015 E 2nd St.\, Cle Elum\n\n\n 	$10 / headset -- on
 ly 50 headsets available\n\n 	Reserve your spot HERE! Paid upon arrival\n 
 	Choose from multiple channels to match every vibe.\n\n\n 	Costumes and dr
 essing up the theme are highly encouraged\n\n 	Prizes for Best Dressed\n\n
 \n 	Beer Specials\n\n 	Single keg release of Dru's Patio Brew: Imperial Br
 u Ski\n 	Discounts on certain styles\n\n\n\nRaise a glass with us and danc
 e into our next chapter — where every good beer deserves a good party!
ATTACH;FMTTYPE=image/jpeg:https://www.drubru.com/wp-content/uploads/2025/1
 1/11thAnniversaryParty_SilentDisco_Event-SocialSquare.png
LOCATION:Cle Elum\, 1015 E 2nd St.\, Cle Elum\, WA\, 98922\, United States
X-APPLE-STRUCTURED-LOCATION;VALUE=URI;X-ADDRESS=1015 E 2nd St.\, Cle Elum\,
  WA\, 98922\, United States;X-APPLE-RADIUS=100;X-TITLE=Cle Elum:geo:0,0
END:VEVENT
END:VCALENDAR