BEGIN:VCALENDAR
VERSION:2.0
PRODID:-//wp-events-plugin.com//7.2.3.1//EN
BEGIN:VEVENT
UID:112@drubru.com
DTSTART:20241220T120000Z
DTEND:20241220T153000Z
DTSTAMP:20241126T232640Z
URL:https://www.drubru.com/brewery-events/rei-snowshoe/
SUMMARY:Snowshoes & Brews with REI
DESCRIPTION:Join REI's professional guides on a scenic snowshoe tour at Sno
 qualmie Pass!\nTour beautiful\, winter scenery and end the day at the Dru 
 Bru Snoqualmie Pass taproom for great beverages\, food and community.\nEve
 nt participation is via REI -- See full details and registration signup HE
 RE.\nLimited spots are available for each event session -- sign up today!\
 n\nMeet your guides at REI's Snoqualmie Pass Snowshoe Rental Outpost (Hyak
  Sno-Park) where you'll be outfitted with everything you need for the tour
 . Set off along Keechelus Lake\, taking in the sweeping views of the snow-
 capped mountains over the water. This historic route is tucked inside the 
 long and narrow Palouse to Cascades State Park which stretches all the way
  to the Columbia River\, more than 100 miles to the east. Guides will shar
 e their expertise and offer tips for experienced and novice snowshoers ali
 ke. After the tour\, head to Dru Bru's taproom at Snoqualmie Pass to enjoy
  a beverage with the group. This is an experience presented by REI Co-Op t
 hat you won't want to miss!\n\nAll gear is provided by REI Co-Op.
ATTACH;FMTTYPE=image/jpeg:https://www.drubru.com/wp-content/uploads/2024/1
 1/DruBru_Event_REI-Snowshoes_Updated-Banner_2024-25.png
LOCATION:Snoqualmie Pass\, 10 Pass Life Way #3\, Snoqualmie Pass\, WA\, 980
 68\, United States
X-APPLE-STRUCTURED-LOCATION;VALUE=URI;X-ADDRESS=10 Pass Life Way #3\, Snoqu
 almie Pass\, WA\, 98068\, United States;X-APPLE-RADIUS=100;X-TITLE=Snoqual
 mie Pass:geo:0,0
END:VEVENT
END:VCALENDAR