BEGIN:VCALENDAR
VERSION:2.0
PRODID:-//wp-events-plugin.com//7.2.3.1//EN
BEGIN:VEVENT
UID:203@drubru.com
DTSTART:20251029T180000Z
DTEND:20251029T200000Z
DTSTAMP:20251024T184803Z
URL:https://www.drubru.com/brewery-events/paint-pints-7/
SUMMARY:Paint & Pints with Brandi: Halloween Special
DESCRIPTION:Join us at the Sno Pass taproom for a SPOOKY and fun evening of
  painting over some pints!\nLocal artist and Dru Bru ambassador Brandi Bir
 d will be leading a special\, Halloween-themed\, follow-along acrylic pain
 ting session!\n\n 	Cost: $40 per person\n\n 	Includes: all painting materi
 als\, artist instruction\, AND a pint of Dru Bru.\n\n 	Paint a piece to ta
 ke home!\n\n\n 	Paid upon arrival.\n\n\n 	Signup recommended.\n\n 	Space i
 s limited to 20 participants\n 	Sign up HERE!\n\n\n\n*Please note: the eve
 nt image does not show the exact painting to be done* \n\nCome paint with 
 us!
ATTACH;FMTTYPE=image/jpeg:https://www.drubru.com/wp-content/uploads/2025/0
 9/25.10.29_Artist_PaintPint_Brandi_SnoPass_Social-Post.png
LOCATION:Snoqualmie Pass\, 10 Pass Life Way #3\, Snoqualmie Pass\, WA\, 980
 68\, United States
X-APPLE-STRUCTURED-LOCATION;VALUE=URI;X-ADDRESS=10 Pass Life Way #3\, Snoqu
 almie Pass\, WA\, 98068\, United States;X-APPLE-RADIUS=100;X-TITLE=Snoqual
 mie Pass:geo:0,0
END:VEVENT
END:VCALENDAR