BEGIN:VCALENDAR
VERSION:2.0
PRODID:-//wp-events-plugin.com//7.2.3.1//EN
BEGIN:VEVENT
UID:58@drubru.com
DTSTART:20240416T170000Z
DTEND:20240416T190000Z
DTSTAMP:20240409T215714Z
URL:https://www.drubru.com/brewery-events/paint-pints-4/
SUMMARY:Paint and Pints with Madysen
DESCRIPTION:Join us at the Cle Elum taproom for painting and Happy Hour!\nL
 ocal Paint &amp\; Sip Instructor \, Madysen of Tipsi.Mads will be leading 
 a follow-along canvas tote bag painting session!\n\n 	Cost: $45 per person
 \n\n 	Includes:  canvas tote bag\, painting supplies and artist instructi
 on.\n\n\n 	Reserve and pay for your spot HERE.\n 	Happy Hour Specials - av
 ailable all day!\n\nGrab a pint and some brushes!\n\nPhoto credit: Madysen
 \nInstagram | Facebook\n\nImage is an example and does not show the design
  to be painted.
ATTACH;FMTTYPE=image/jpeg:https://www.drubru.com/wp-content/uploads/2024/0
 3/DigitalBanner_PaintPints_Madysen_04.16.24.png
LOCATION:Cle Elum\, 1015 E 2nd St.\, Cle Elum\, WA\, 98922\, United States
X-APPLE-STRUCTURED-LOCATION;VALUE=URI;X-ADDRESS=1015 E 2nd St.\, Cle Elum\,
  WA\, 98922\, United States;X-APPLE-RADIUS=100;X-TITLE=Cle Elum:geo:0,0
END:VEVENT
END:VCALENDAR