BEGIN:VCALENDAR
VERSION:2.0
PRODID:-//wp-events-plugin.com//7.2.3.1//EN
BEGIN:VEVENT
UID:136@drubru.com
DTSTART:20250516T180000Z
DTEND:20250516T200000Z
DTSTAMP:20250404T224817Z
URL:https://www.drubru.com/brewery-events/locals-film-fest/
SUMMARY:Locals Film Fest
DESCRIPTION:Celebrate the 24/25 shred season with locally made films\, beer
  and friends!\nThis is a night for the community to gather and share our a
 dventures documented through the winter!\nJoin us for:\n\n 	A variety of s
 hort\, locally made film edits\n\n 	Shown on our TVs in the taproom.\n 	Sh
 owings start @ 6:00 pm\n\n\n 	FREE raffle with rad prizes\n 	BEER! Raise a
  glass to the season!\n\nIf you are interested in sharing an edit\, please
  email Sarah (sarahb@drubru.com)\n\n\n 	Deadline: Monday\, May 12th\, EOD
 \n 	Maximum 4 minutes per edit\n 	One edit per person\n 	Open to all\, reg
 ardless of skill!\n\nCheers to a fun season!
ATTACH;FMTTYPE=image/jpeg:https://www.drubru.com/wp-content/uploads/2025/0
 4/25.05.16_DruBruEvent_LocalFilmFest_Square.jpg
LOCATION:Snoqualmie Pass\, 10 Pass Life Way #3\, Snoqualmie Pass\, WA\, 980
 68\, United States
X-APPLE-STRUCTURED-LOCATION;VALUE=URI;X-ADDRESS=10 Pass Life Way #3\, Snoqu
 almie Pass\, WA\, 98068\, United States;X-APPLE-RADIUS=100;X-TITLE=Snoqual
 mie Pass:geo:0,0
END:VEVENT
END:VCALENDAR