BEGIN:VCALENDAR
VERSION:2.0
PRODID:-//wp-events-plugin.com//7.2.3.1//EN
BEGIN:VEVENT
UID:61@drubru.com
DTSTART:20240524T170000Z
DTEND:20240524T200000Z
DTSTAMP:20240412T202307Z
URL:https://www.drubru.com/brewery-events/live-music/
SUMMARY:Live Music: Kage Dallas
DESCRIPTION:Enjoy a Friday evening of free live music at the Cle Elum tapro
 om!\nWe welcome back talented\, acoustic artist\; Kage Dallas!\n\nGet read
 y to be entertained with a great mix of classic and modern country\, old c
 lassics\, 90's\, and acoustic originals by Kage.\n\n 	\n\n 	Outside in the
  patio - weather permitting\n 	Free admission - no tickets required\n 	Ope
 n to all ages\n\n\n\nSee you there!\n\nCover image by: Kage Dallas - Follo
 w him:\nWebsite | Instagram | Facebook
ATTACH;FMTTYPE=image/jpeg:https://www.drubru.com/wp-content/uploads/2024/0
 4/DigitalBanner_LiveMusic_KageDallas_05.24.24.png
LOCATION:Cle Elum\, 1015 E 2nd St.\, Cle Elum\, WA\, 98922\, United States
X-APPLE-STRUCTURED-LOCATION;VALUE=URI;X-ADDRESS=1015 E 2nd St.\, Cle Elum\,
  WA\, 98922\, United States;X-APPLE-RADIUS=100;X-TITLE=Cle Elum:geo:0,0
END:VEVENT
END:VCALENDAR