BEGIN:VCALENDAR
VERSION:2.0
PRODID:-//wp-events-plugin.com//7.2.3.1//EN
BEGIN:VEVENT
UID:70@drubru.com
DTSTART:20240621T170000Z
DTEND:20240621T210000Z
DTSTAMP:20240509T213613Z
URL:https://www.drubru.com/brewery-events/kickoff-party/
SUMMARY:Teanaway Trail Fest KICKOFF PARTY!
DESCRIPTION:Get ready for Teanaway Trail Fest and join us for an evening of
  beer\, films and fundraising!\nIn partnership with Roslyn Theatre and Fre
 ehub Magazine to help benefit Towns to Teanaway.\nHeld at The Roslyn Theat
 re\nSchedule:\n\n 	5:00 - 7:00 PM = Dru Bru Beer Garden open\n\n 	Happy Ho
 ur in the outdoor patio\n 	All proceeds going to Towns to Teanaway\n\n\n 	
 7:00 - 8:00 PM = Film Showings\n\n 	FREE tickets\n 	Inside The Roslyn Thea
 tre\n 	Collection of outdoor recreation-themed short films\n\n\n\nGet stok
 ed for Teanaway Trail Fest with us! See you at the Theatre!
ATTACH;FMTTYPE=image/jpeg:https://www.drubru.com/wp-content/uploads/2024/0
 5/DruBru_TrailFest_KickoffParty_FilmFest_ScreenAd_06.21.24.png
LOCATION:Roslyn Theatre\, 101 W Dakota Ave\, Roslyn\, WA\, 98941\, United K
 ingdom
X-APPLE-STRUCTURED-LOCATION;VALUE=URI;X-ADDRESS=101 W Dakota Ave\, Roslyn\,
  WA\, 98941\, United Kingdom;X-APPLE-RADIUS=100;X-TITLE=Roslyn Theatre:geo
 :0,0
END:VEVENT
END:VCALENDAR