BEGIN:VCALENDAR
VERSION:2.0
PRODID:-//wp-events-plugin.com//7.2.3.1//EN
BEGIN:VEVENT
UID:83@drubru.com
DTSTART:20240704T150000Z
DTEND:20240704T160000Z
DTSTAMP:20240629T010207Z
URL:https://www.drubru.com/brewery-events/hot-dog-contest/
SUMMARY:July 4th Hot Dog Eating Contest
DESCRIPTION:Let's get ready to rumble!!!\nCelebrate the 4th of July with th
 e ultimate Hot Dog Eating Contest\, presented by Squatch Box!\n\n 	Held at
  the Snoqualmie Pass Taproom\n 	Starts at 3:00 pm\n 	$20 entry fee to get:
 \n\n 	All-you-can-eat Squatch Box dogs for 5 minutes\n 	The chance to win 
 cash prizes and take home our prestigious Weiner Winner Champion Belt!\n\n
  	1st place = $150\n 	2nd place = $50\n\n\n\n\n 	Sign up HERE\n\n 	Space i
 s limited\n\n\n\nSee you there and good luck!
ATTACH;FMTTYPE=image/jpeg:https://www.drubru.com/wp-content/uploads/2024/0
 6/DruBru_Event_SquatchBox_July4th_HotDog_Banner.png
LOCATION:Snoqualmie Pass\, 10 Pass Life Way #3\, Snoqualmie Pass\, WA\, 980
 68\, United States
X-APPLE-STRUCTURED-LOCATION;VALUE=URI;X-ADDRESS=10 Pass Life Way #3\, Snoqu
 almie Pass\, WA\, 98068\, United States;X-APPLE-RADIUS=100;X-TITLE=Snoqual
 mie Pass:geo:0,0
END:VEVENT
END:VCALENDAR