BEGIN:VCALENDAR
VERSION:2.0
PRODID:-//wp-events-plugin.com//7.2.3.1//EN
BEGIN:VEVENT
UID:88@drubru.com
DTSTART:20240726T170000Z
DTEND:20240726T200000Z
DTSTAMP:20240705T213601Z
URL:https://www.drubru.com/brewery-events/fish-fry-friday/
SUMMARY:Fish Fry Friday!
DESCRIPTION:TGIF!\nSquatch Box is cooking up a Summer dinner special to cel
 ebrate Friday!\nFish Fry special - served up from 5:00 pm until close:\n\n
  	3-piece Dru Bru beer battered cod filets\n 	Fries\n 	Coleslaw\n\n$18.50 
 per order\n\nSee you there to celebrate Friday!
ATTACH;FMTTYPE=image/jpeg:https://www.drubru.com/wp-content/uploads/2024/0
 7/DruBru_Event_SquatchBox_FishFry_Banner-1.png
LOCATION:Snoqualmie Pass\, 10 Pass Life Way #3\, Snoqualmie Pass\, WA\, 980
 68\, United States
X-APPLE-STRUCTURED-LOCATION;VALUE=URI;X-ADDRESS=10 Pass Life Way #3\, Snoqu
 almie Pass\, WA\, 98068\, United States;X-APPLE-RADIUS=100;X-TITLE=Snoqual
 mie Pass:geo:0,0
END:VEVENT
END:VCALENDAR