BEGIN:VCALENDAR
VERSION:2.0
PRODID:-//wp-events-plugin.com//7.2.3.1//EN
BEGIN:VEVENT
UID:12@drubru.com
DTSTART:20231129T173000Z
DTEND:20231129T203000Z
DTSTAMP:20231102T175609Z
URL:https://www.drubru.com/brewery-events/dd-game-night/
SUMMARY:D&D Game Night
DESCRIPTION:CALLING FELLOW DUNGEONS &amp\; DRAGONS FANS!\nEmbark on a fun\,
  new campaign at Dru Bru with local Dungeon Master\, Bama Brokaw.\nThis is
  limited to 10 people\, and sign up is required -- use the ticket link.\nG
 ame outline by the DM:\n\n 	Level 1\n 	Standard array\n 	Core books only\n
  	No god a human has worshiped.\n\nFree to attend\, but sign up is REQUIRE
 D (due to limited availability). Beginner friendly.\nAll game materials pr
 ovided.\nBanner image credit: Bama Brokaw
ATTACH;FMTTYPE=image/jpeg:https://www.drubru.com/wp-content/uploads/2023/1
 1/DD_Dice-scaled.jpg
LOCATION:Snoqualmie Pass\, 10 Pass Life Way #3\, Snoqualmie Pass\, WA\, 980
 68\, United States
X-APPLE-STRUCTURED-LOCATION;VALUE=URI;X-ADDRESS=10 Pass Life Way #3\, Snoqu
 almie Pass\, WA\, 98068\, United States;X-APPLE-RADIUS=100;X-TITLE=Snoqual
 mie Pass:geo:0,0
END:VEVENT
END:VCALENDAR