BEGIN:VCALENDAR
VERSION:2.0
PRODID:-//wp-events-plugin.com//7.2.3.1//EN
BEGIN:VEVENT
UID:117@drubru.com
DTSTART:20241218T180000Z
DTEND:20241218T210000Z
DTSTAMP:20241127T000241Z
URL:https://www.drubru.com/brewery-events/convergence-108-shejumps/
SUMMARY:The Watershed Pub's Convergence #108: Dru Bru + SheJumps
DESCRIPTION:Join us at the Watershed Pub &amp\; Kitchen for their monthly C
 onvergence fundraising events\, with this one benefiting SheJumps!\n"Our C
 onvergence series of monthly brewery-night-community-fundraising events co
 ntinues with the pride of the central Cascades\, Dru Bru! Along with their
  most excellent beers and some special pairings from our talented chefs\, 
 we'll be raising money and awareness for SheJumps : "We serve girls ages 6
  and up\, women 18 &amp\; older who either have never participated in outd
 oor activities or are active members of the outdoor community looking to g
 ive back and share their passion."\n\nWe look forward to sharing this even
 ing with you in support of a great cause. Mark your calendars and stay tun
 ed for more details!"
ATTACH;FMTTYPE=image/jpeg:https://www.drubru.com/wp-content/uploads/2024/1
 1/Watershed-Pub_Convergence_108.jpg
LOCATION:Watershed Pub & Kitchen\, 10104 3rd Ave NE\, Seattle\, WA\, 98125\
 , United States
X-APPLE-STRUCTURED-LOCATION;VALUE=URI;X-ADDRESS=10104 3rd Ave NE\, Seattle\
 , WA\, 98125\, United States;X-APPLE-RADIUS=100;X-TITLE=Watershed Pub & Ki
 tchen:geo:0,0
END:VEVENT
END:VCALENDAR