BEGIN:VCALENDAR
VERSION:2.0
PRODID:-//wp-events-plugin.com//7.2.3.1//EN
BEGIN:VEVENT
UID:273@drubru.com
DTSTART:20261017T100000Z
DTEND:20261017T120000Z
DTSTAMP:20260416T190746Z
URL:https://www.drubru.com/brewery-events/cle-elum-cars-coffee-2-2026-04-1
 8-2026-05-16-2026-06-20-2026-07-18-2026-08-15-2026-09-19-2026-10-17/
SUMMARY:Cle Elum Cars & Coffee
DESCRIPTION:Join us for a morning of cars\, coffee and community!\nCars of 
 all kinds are welcome - foreign\, domestic\, new or old!\nOpen to all - ca
 r hobbyists\, professionals and enthusiasts.
ATTACH;FMTTYPE=image/jpeg:https://www.drubru.com/wp-content/uploads/2025/0
 5/CarsCoffee_2025_EventBanner-scaled.jpg
LOCATION:Cle Elum\, 1015 E 2nd St.\, Cle Elum\, WA\, 98922\, United States
X-APPLE-STRUCTURED-LOCATION;VALUE=URI;X-ADDRESS=1015 E 2nd St.\, Cle Elum\,
  WA\, 98922\, United States;X-APPLE-RADIUS=100;X-TITLE=Cle Elum:geo:0,0
END:VEVENT
END:VCALENDAR