BEGIN:VCALENDAR
VERSION:2.0
PRODID:-//wp-events-plugin.com//7.2.3.1//EN
BEGIN:VEVENT
UID:85@drubru.com
DTSTART:20240719T170000Z
DTEND:20240719T200000Z
DTSTAMP:20240703T013852Z
URL:https://www.drubru.com/brewery-events/casa-pint-night/
SUMMARY:Pint Night for CASA
DESCRIPTION:Join us for a Pint Night to raise funds and awareness for Court
  Advocates for Children Kittitas County!\nWhether you're a craft beer enth
 usiast or passionate about supporting local children\, this is an event yo
 u won't want to miss. Bring your friends\, raise a glass\, and help us mak
 e a difference one pint at a time!\n\n\nThis is an all ages event\, and op
 en to all.\n\n\n\n 	Representatives from CASA will be present to educate o
 n how to get involved and support\n 	$1.00 for every pint &amp\; mug + $4 
 for every pitcher sold during the event will be donated to Court Advocates
  for Children Kittitas County.\n 	Additional donation option at checkout\n
 \nCome raise a glass for local change!
ATTACH;FMTTYPE=image/jpeg:https://www.drubru.com/wp-content/uploads/2024/0
 7/DruBru_Event_PintNight_CASA_07.19.24.png
LOCATION:Cle Elum\, 1015 E 2nd St.\, Cle Elum\, WA\, 98922\, United States
X-APPLE-STRUCTURED-LOCATION;VALUE=URI;X-ADDRESS=1015 E 2nd St.\, Cle Elum\,
  WA\, 98922\, United States;X-APPLE-RADIUS=100;X-TITLE=Cle Elum:geo:0,0
END:VEVENT
END:VCALENDAR