BEGIN:VCALENDAR
VERSION:2.0
PRODID:-//wp-events-plugin.com//7.2.3.1//EN
BEGIN:VEVENT
UID:55@drubru.com
DTSTART:20240402T173000Z
DTEND:20240402T190000Z
DTSTAMP:20240324T215504Z
URL:https://www.drubru.com/brewery-events/brewery-tour/
SUMMARY:Brewery Tour with Dru
DESCRIPTION:Have you wanted to see how beer is made and what happens behind
  the scenes at Dru Bru?\nNow is your chance to join owner and president\, 
 Dru\, for a guided Bru-ery tour of our production facility in Cle Elum!\nY
 ou'll get to learn about ingredients\, brewing processes\, packaging and m
 ore.\n\nTour is open to all ages:\n\n 	$8 for 21+\n\n 	Includes a tasting 
 from the tank\n 	Paid upon arrival\n\n\n 	Free for 20 and under\n 	No sign
 ups required\n\n 	Arrive before 5:30 pm and join Dru from the taproom.\n\n
 \n\nSee you at the brewery!
ATTACH;FMTTYPE=image/jpeg:https://www.drubru.com/wp-content/uploads/2024/0
 3/Digital-Banner_BreweryTour.png
LOCATION:Cle Elum\, 1015 E 2nd St.\, Cle Elum\, WA\, 98922\, United States
X-APPLE-STRUCTURED-LOCATION;VALUE=URI;X-ADDRESS=1015 E 2nd St.\, Cle Elum\,
  WA\, 98922\, United States;X-APPLE-RADIUS=100;X-TITLE=Cle Elum:geo:0,0
END:VEVENT
END:VCALENDAR